BEGIN:VCALENDAR
VERSION:2.0
PRODID:icalendar-ruby
CALSCALE:GREGORIAN
METHOD:PUBLISH
BEGIN:VEVENT
DTSTAMP:20260423T135117Z
UID:334-5861@saintjohnsws.org
DTSTART:20260430T210000Z
DTEND:20260430T230000Z
CLASS:PUBLIC
CREATED:20260422T104037
DESCRIPTION:We will be going to Ripa's on Walden Ave.\, in Lancaster. Sign-
 up sheet is in the foyer. All are welcome!
LAST-MODIFIED:20260422T104037
LOCATION:
SUMMARY:Thursday April 30\, 2026
URL;VALUE=URI:https://www.saintjohnsws.org/events/thursday-april-30-2026/20
 26-04-30
END:VEVENT
END:VCALENDAR
